BEGIN:VCALENDAR
VERSION:2.0
PRODID:-//Koost&ouml;&ouml;kogu - ECPv6.15.20//NONSGML v1.0//EN
CALSCALE:GREGORIAN
METHOD:PUBLISH
X-ORIGINAL-URL:https://koostookogu.ee
X-WR-CALDESC:Events for Koost&ouml;&ouml;kogu
REFRESH-INTERVAL;VALUE=DURATION:PT1H
X-Robots-Tag:noindex
X-PUBLISHED-TTL:PT1H
BEGIN:VTIMEZONE
TZID:Europe/Tallinn
BEGIN:DAYLIGHT
TZOFFSETFROM:+0200
TZOFFSETTO:+0300
TZNAME:EEST
DTSTART:20240331T010000
END:DAYLIGHT
BEGIN:STANDARD
TZOFFSETFROM:+0300
TZOFFSETTO:+0200
TZNAME:EET
DTSTART:20241027T010000
END:STANDARD
BEGIN:DAYLIGHT
TZOFFSETFROM:+0200
TZOFFSETTO:+0300
TZNAME:EEST
DTSTART:20250330T010000
END:DAYLIGHT
BEGIN:STANDARD
TZOFFSETFROM:+0300
TZOFFSETTO:+0200
TZNAME:EET
DTSTART:20251026T010000
END:STANDARD
BEGIN:DAYLIGHT
TZOFFSETFROM:+0200
TZOFFSETTO:+0300
TZNAME:EEST
DTSTART:20260329T010000
END:DAYLIGHT
BEGIN:STANDARD
TZOFFSETFROM:+0300
TZOFFSETTO:+0200
TZNAME:EET
DTSTART:20261025T010000
END:STANDARD
END:VTIMEZONE
BEGIN:VEVENT
DTSTART;TZID=Europe/Tallinn:20250403T150000
DTEND;TZID=Europe/Tallinn:20250403T170000
DTSTAMP:20260422T145803
CREATED:20250325T145022Z
LAST-MODIFIED:20250327T103142Z
UID:11557-1743692400-1743699600@koostookogu.ee
SUMMARY:Juhatuse koosolek
DESCRIPTION:Päevakava
URL:https://koostookogu.ee/sundmus/juhatuse-koosolek-45/
LOCATION:Koostöökogu kontor\, Paide tn 6\, Türi
END:VEVENT
BEGIN:VEVENT
DTSTART;VALUE=DATE:20250404
DTEND;VALUE=DATE:20250405
DTSTAMP:20260422T145803
CREATED:20250325T084522Z
LAST-MODIFIED:20250423T074718Z
UID:11652-1743724800-1743811199@koostookogu.ee
SUMMARY:"Pihlapuu" kohtumine Aveliina Helm'iga (ESF+)
DESCRIPTION:KAVA
URL:https://koostookogu.ee/sundmus/pihlapuu-kohtumine-aveliina-helmiga-esf/
END:VEVENT
BEGIN:VEVENT
DTSTART;VALUE=DATE:20250407
DTEND;VALUE=DATE:20250408
DTSTAMP:20260422T145803
CREATED:20250225T080730Z
LAST-MODIFIED:20250225T080730Z
UID:11449-1743984000-1744070399@koostookogu.ee
SUMMARY:Väätsa eakate seltsi "Ristikhein" väljasõit Suure-Jaani (ESF+)
DESCRIPTION:KAVA
URL:https://koostookogu.ee/sundmus/vaatsa-eakate-seltsi-ristikhein-valjasoit-suure-jaani-esf/
END:VEVENT
BEGIN:VEVENT
DTSTART;VALUE=DATE:20250410
DTEND;VALUE=DATE:20250411
DTSTAMP:20260422T145803
CREATED:20250409T135200Z
LAST-MODIFIED:20250409T135200Z
UID:11601-1744243200-1744329599@koostookogu.ee
SUMMARY:Väätsa eakate kodu ülestõusmispühade tähistamine koos Väätsa Põhikooli lastega (ESF+)
DESCRIPTION:KAVA
URL:https://koostookogu.ee/sundmus/vaatsa-eakate-kodu-ulestousmispuhade-tahistamine-koos-vaatsa-pohikooli-lastega-esf/
LOCATION:Väätsa eakate kodu\, Väätsa\, Estonia
END:VEVENT
BEGIN:VEVENT
DTSTART;VALUE=DATE:20250412
DTEND;VALUE=DATE:20250413
DTSTAMP:20260422T145803
CREATED:20250410T093119Z
LAST-MODIFIED:20250410T093119Z
UID:11605-1744416000-1744502399@koostookogu.ee
SUMMARY:"Arukate külade meistriklass" Taikse seltsimajas
DESCRIPTION:KAVA
URL:https://koostookogu.ee/sundmus/arukate-kulade-meistriklass-taikse-seltsimajas/
LOCATION:Taikse seltsimaja\, Taikse küla\, Türi vald
END:VEVENT
BEGIN:VEVENT
DTSTART;VALUE=DATE:20250414
DTEND;VALUE=DATE:20250426
DTSTAMP:20260422T145803
CREATED:20250414T053759Z
LAST-MODIFIED:20250414T053759Z
UID:11614-1744588800-1745625599@koostookogu.ee
SUMMARY:Ettevõtlusmeetmete taotlusvoor
DESCRIPTION:
URL:https://koostookogu.ee/sundmus/ettevotlusmeetmete-taotlusvoor/
END:VEVENT
BEGIN:VEVENT
DTSTART;VALUE=DATE:20250417
DTEND;VALUE=DATE:20250418
DTSTAMP:20260422T145803
CREATED:20250414T190705Z
LAST-MODIFIED:20250414T190705Z
UID:11623-1744848000-1744934399@koostookogu.ee
SUMMARY:Imavere eakate seltsi väljasõit Väärikate ülikooli (ESF+)
DESCRIPTION:KAVA
URL:https://koostookogu.ee/sundmus/imavere-eakate-seltsi-valjasoit-vaarikate-ulikooli-esf-2/
LOCATION:Türi Kultuurikeskus\, seminarisuum
END:VEVENT
BEGIN:VEVENT
DTSTART;TZID=Europe/Tallinn:20250417T130000
DTEND;TZID=Europe/Tallinn:20250417T163000
DTSTAMP:20260422T145803
CREATED:20241206T064234Z
LAST-MODIFIED:20250120T071618Z
UID:11166-1744894800-1744907400@koostookogu.ee
SUMMARY:Väärikate ülikooli loengupäev aprillis 2025 (ESF+)
DESCRIPTION:
URL:https://koostookogu.ee/sundmus/vaarikate-ulikooli-loengupaev-aprillis-2025-esf/
END:VEVENT
BEGIN:VEVENT
DTSTART;VALUE=DATE:20250421
DTEND;VALUE=DATE:20250422
DTSTAMP:20260422T145803
CREATED:20250225T080811Z
LAST-MODIFIED:20250225T080811Z
UID:11452-1745193600-1745279999@koostookogu.ee
SUMMARY:Väätsa eakate seltsi "Ristikhein" väljasõit Suure-Jaani (ESF+)
DESCRIPTION:KAVA
URL:https://koostookogu.ee/sundmus/vaatsa-eakate-seltsi-ristikhein-valjasoit-suure-jaani-esf-2/
END:VEVENT
BEGIN:VEVENT
DTSTART;VALUE=DATE:20250424
DTEND;VALUE=DATE:20250425
DTSTAMP:20260422T145803
CREATED:20250422T123124Z
LAST-MODIFIED:20250422T123124Z
UID:11642-1745452800-1745539199@koostookogu.ee
SUMMARY:Loeng "Aias on hea! Kompostimine on kasulik-kuidas seda õigesti ja tulemusrikkalt teha?" (ESF+)
DESCRIPTION:
URL:https://koostookogu.ee/sundmus/loeng-aias-on-hea-kompostimine-on-kasulik-kuidas-seda-oigesti-ja-tulemusrikkalt-teha-esf/
LOCATION:Türi Kogukonnamajas (KONNas uues peretoas)\, Viljandi 60\, Türi
END:VEVENT
BEGIN:VEVENT
DTSTART;VALUE=DATE:20250430
DTEND;VALUE=DATE:20250501
DTSTAMP:20260422T145803
CREATED:20250414T190453Z
LAST-MODIFIED:20250414T190453Z
UID:11619-1745971200-1746057599@koostookogu.ee
SUMMARY:Imavere eakate seltsi väljasõit Kunstimuuseumisse (ESF+)
DESCRIPTION:KAVA
URL:https://koostookogu.ee/sundmus/imavere-eakate-seltsi-valjasoit-kunstimuuseumisse-esf/
END:VEVENT
END:VCALENDAR