BEGIN:VCALENDAR
VERSION:2.0
PRODID:-//Koost&ouml;&ouml;kogu - ECPv6.15.20//NONSGML v1.0//EN
CALSCALE:GREGORIAN
METHOD:PUBLISH
X-WR-CALNAME:Koost&ouml;&ouml;kogu
X-ORIGINAL-URL:https://koostookogu.ee
X-WR-CALDESC:Events for Koost&ouml;&ouml;kogu
REFRESH-INTERVAL;VALUE=DURATION:PT1H
X-Robots-Tag:noindex
X-PUBLISHED-TTL:PT1H
BEGIN:VTIMEZONE
TZID:Europe/Tallinn
BEGIN:DAYLIGHT
TZOFFSETFROM:+0200
TZOFFSETTO:+0300
TZNAME:EEST
DTSTART:20200329T010000
END:DAYLIGHT
BEGIN:STANDARD
TZOFFSETFROM:+0300
TZOFFSETTO:+0200
TZNAME:EET
DTSTART:20201025T010000
END:STANDARD
BEGIN:DAYLIGHT
TZOFFSETFROM:+0200
TZOFFSETTO:+0300
TZNAME:EEST
DTSTART:20210328T010000
END:DAYLIGHT
BEGIN:STANDARD
TZOFFSETFROM:+0300
TZOFFSETTO:+0200
TZNAME:EET
DTSTART:20211031T010000
END:STANDARD
BEGIN:DAYLIGHT
TZOFFSETFROM:+0200
TZOFFSETTO:+0300
TZNAME:EEST
DTSTART:20220327T010000
END:DAYLIGHT
BEGIN:STANDARD
TZOFFSETFROM:+0300
TZOFFSETTO:+0200
TZNAME:EET
DTSTART:20221030T010000
END:STANDARD
END:VTIMEZONE
BEGIN:VEVENT
DTSTART;TZID=Europe/Tallinn:20211202T150000
DTEND;TZID=Europe/Tallinn:20211202T170000
DTSTAMP:20260419T160809
CREATED:20211123T095134Z
LAST-MODIFIED:20211202T063032Z
UID:8963-1638457200-1638464400@koostookogu.ee
SUMMARY:Projektide hindamiskomisjoni koosolek
DESCRIPTION:
URL:https://koostookogu.ee/sundmus/hindamiskomisjoni-koosolek-9/
LOCATION:Koostöökogu kontor\, Paide tn 6\, Türi
END:VEVENT
BEGIN:VEVENT
DTSTART;TZID=Europe/Tallinn:20211209T150000
DTEND;TZID=Europe/Tallinn:20211209T170000
DTSTAMP:20260419T160809
CREATED:20211130T061855Z
LAST-MODIFIED:20211202T062951Z
UID:8987-1639062000-1639069200@koostookogu.ee
SUMMARY:Juhatuse koosolek
DESCRIPTION:Päevakava
URL:https://koostookogu.ee/sundmus/juhatuse-koosolek-27/
LOCATION:Väätsa kohvik
END:VEVENT
BEGIN:VEVENT
DTSTART;TZID=Europe/Tallinn:20211220T100000
DTEND;TZID=Europe/Tallinn:20211220T120000
DTSTAMP:20260419T160809
CREATED:20211202T062610Z
LAST-MODIFIED:20211202T062932Z
UID:8992-1639994400-1640001600@koostookogu.ee
SUMMARY:"Keskpõrandale kokku" projektitoimkonna koosolek
DESCRIPTION:
URL:https://koostookogu.ee/sundmus/keskporandale-kokku-projektitoimkonna-koosolek/
LOCATION:Koostöökogu kontor\, Paide tn 6\, Türi
END:VEVENT
BEGIN:VEVENT
DTSTART;VALUE=DATE:20211227
DTEND;VALUE=DATE:20211229
DTSTAMP:20260419T160809
CREATED:20211222T151111Z
LAST-MODIFIED:20211227T084954Z
UID:9039-1640563200-1640735999@koostookogu.ee
SUMMARY:Järvamaa arendusorganisatsioonide koostööseminar
DESCRIPTION:
URL:https://koostookogu.ee/sundmus/arendusorganisatsioonide-koostooseminar/
LOCATION:Viimsi
END:VEVENT
BEGIN:VEVENT
DTSTART;TZID=Europe/Tallinn:20211229T100000
DTEND;TZID=Europe/Tallinn:20211229T110000
DTSTAMP:20260419T160809
CREATED:20211227T085058Z
LAST-MODIFIED:20211227T085058Z
UID:9056-1640772000-1640775600@koostookogu.ee
SUMMARY:Mõisate arenguprogrammi töökoosolek
DESCRIPTION:
URL:https://koostookogu.ee/sundmus/moisate-arenguprogrammi-tookoosolek/
LOCATION:Zoom’is
END:VEVENT
END:VCALENDAR