BEGIN:VCALENDAR
VERSION:2.0
PRODID:-//Koost&ouml;&ouml;kogu - ECPv6.15.20//NONSGML v1.0//EN
CALSCALE:GREGORIAN
METHOD:PUBLISH
X-ORIGINAL-URL:https://koostookogu.ee
X-WR-CALDESC:Events for Koost&ouml;&ouml;kogu
REFRESH-INTERVAL;VALUE=DURATION:PT1H
X-Robots-Tag:noindex
X-PUBLISHED-TTL:PT1H
BEGIN:VTIMEZONE
TZID:Europe/Tallinn
BEGIN:DAYLIGHT
TZOFFSETFROM:+0200
TZOFFSETTO:+0300
TZNAME:EEST
DTSTART:20180325T010000
END:DAYLIGHT
BEGIN:STANDARD
TZOFFSETFROM:+0300
TZOFFSETTO:+0200
TZNAME:EET
DTSTART:20181028T010000
END:STANDARD
BEGIN:DAYLIGHT
TZOFFSETFROM:+0200
TZOFFSETTO:+0300
TZNAME:EEST
DTSTART:20190331T010000
END:DAYLIGHT
BEGIN:STANDARD
TZOFFSETFROM:+0300
TZOFFSETTO:+0200
TZNAME:EET
DTSTART:20191027T010000
END:STANDARD
BEGIN:DAYLIGHT
TZOFFSETFROM:+0200
TZOFFSETTO:+0300
TZNAME:EEST
DTSTART:20200329T010000
END:DAYLIGHT
BEGIN:STANDARD
TZOFFSETFROM:+0300
TZOFFSETTO:+0200
TZNAME:EET
DTSTART:20201025T010000
END:STANDARD
END:VTIMEZONE
BEGIN:VEVENT
DTSTART;TZID=Europe/Tallinn:20190603T150000
DTEND;TZID=Europe/Tallinn:20190603T170000
DTSTAMP:20260420T161316
CREATED:20190510T114542Z
LAST-MODIFIED:20190605T113349Z
UID:7673-1559574000-1559581200@koostookogu.ee
SUMMARY:Juhatuse koosolek
DESCRIPTION:Päevakava
URL:https://koostookogu.ee/sundmus/juhatuse-koosolek-18/
LOCATION:Koostookogu kontor\, Kohtu 2 Türi
END:VEVENT
BEGIN:VEVENT
DTSTART;TZID=Europe/Tallinn:20190613T123000
DTEND;TZID=Europe/Tallinn:20190613T170000
DTSTAMP:20260420T161316
CREATED:20190201T080654Z
LAST-MODIFIED:20190201T080654Z
UID:7402-1560429000-1560445200@koostookogu.ee
SUMMARY:Ettevõtjate suveseminar
DESCRIPTION:
URL:https://koostookogu.ee/sundmus/ettevotjate-suveseminar-3/
END:VEVENT
BEGIN:VEVENT
DTSTART;TZID=Europe/Tallinn:20190617T153000
DTEND;TZID=Europe/Tallinn:20190617T170000
DTSTAMP:20260420T161316
CREATED:20190605T113154Z
LAST-MODIFIED:20190605T113251Z
UID:7699-1560785400-1560790800@koostookogu.ee
SUMMARY:LJKK üldkoosolek
DESCRIPTION:Päevakava
URL:https://koostookogu.ee/sundmus/ljkk-uldkoosolek-4/
LOCATION:Vaksali kohvik\, Türi linn
END:VEVENT
BEGIN:VEVENT
DTSTART;TZID=Europe/Tallinn:20190618T160000
DTEND;TZID=Europe/Tallinn:20190618T180000
DTSTAMP:20260420T161316
CREATED:20190617T075006Z
LAST-MODIFIED:20190617T075043Z
UID:7719-1560873600-1560880800@koostookogu.ee
SUMMARY:Järvamaa avatud talude kokkusaamine
DESCRIPTION:
URL:https://koostookogu.ee/sundmus/jarvamaa-avatud-talude-kokkusaamine-2/
LOCATION:Hindreku Turismitalu\, Valgma küla\, Paide vald
END:VEVENT
END:VCALENDAR