BEGIN:VCALENDAR
VERSION:2.0
PRODID:-//Koost&ouml;&ouml;kogu - ECPv6.15.20//NONSGML v1.0//EN
CALSCALE:GREGORIAN
METHOD:PUBLISH
X-ORIGINAL-URL:https://koostookogu.ee
X-WR-CALDESC:Events for Koost&ouml;&ouml;kogu
REFRESH-INTERVAL;VALUE=DURATION:PT1H
X-Robots-Tag:noindex
X-PUBLISHED-TTL:PT1H
BEGIN:VTIMEZONE
TZID:Europe/Tallinn
BEGIN:DAYLIGHT
TZOFFSETFROM:+0200
TZOFFSETTO:+0300
TZNAME:EEST
DTSTART:20180325T010000
END:DAYLIGHT
BEGIN:STANDARD
TZOFFSETFROM:+0300
TZOFFSETTO:+0200
TZNAME:EET
DTSTART:20181028T010000
END:STANDARD
BEGIN:DAYLIGHT
TZOFFSETFROM:+0200
TZOFFSETTO:+0300
TZNAME:EEST
DTSTART:20190331T010000
END:DAYLIGHT
BEGIN:STANDARD
TZOFFSETFROM:+0300
TZOFFSETTO:+0200
TZNAME:EET
DTSTART:20191027T010000
END:STANDARD
BEGIN:DAYLIGHT
TZOFFSETFROM:+0200
TZOFFSETTO:+0300
TZNAME:EEST
DTSTART:20200329T010000
END:DAYLIGHT
BEGIN:STANDARD
TZOFFSETFROM:+0300
TZOFFSETTO:+0200
TZNAME:EET
DTSTART:20201025T010000
END:STANDARD
END:VTIMEZONE
BEGIN:VEVENT
DTSTART;TZID=Europe/Tallinn:20190204T150000
DTEND;TZID=Europe/Tallinn:20190204T170000
DTSTAMP:20260420T233455
CREATED:20190128T063936Z
LAST-MODIFIED:20190212T074627Z
UID:7383-1549292400-1549299600@koostookogu.ee
SUMMARY:Juhatuse koosolek
DESCRIPTION:Päevakava
URL:https://koostookogu.ee/sundmus/juhatuse-koosolek-16/
LOCATION:Koostookogu kontor\, Kohtu 2 Türi
END:VEVENT
BEGIN:VEVENT
DTSTART;VALUE=DATE:20190208
DTEND;VALUE=DATE:20190216
DTSTAMP:20260420T233455
CREATED:20190128T064409Z
LAST-MODIFIED:20190219T123457Z
UID:7389-1549584000-1550275199@koostookogu.ee
SUMMARY:Meede 1.1 ja 1.2 taotlusvoor
DESCRIPTION:
URL:https://koostookogu.ee/sundmus/meede-1-1-ja-1-2-taotlusvoor/
END:VEVENT
BEGIN:VEVENT
DTSTART;TZID=Europe/Tallinn:20190212T140000
DTEND;TZID=Europe/Tallinn:20190212T190000
DTSTAMP:20260420T233455
CREATED:20190128T063841Z
LAST-MODIFIED:20190128T063841Z
UID:7379-1549980000-1549998000@koostookogu.ee
SUMMARY:Õppekäik VÕÕP stuudiosse Viljandis
DESCRIPTION:Kava
URL:https://koostookogu.ee/sundmus/oppekaik-voop-stuudiosse-viljandis/
END:VEVENT
BEGIN:VEVENT
DTSTART;VALUE=DATE:20190216
DTEND;VALUE=DATE:20190219
DTSTAMP:20260420T233455
CREATED:20190128T064107Z
LAST-MODIFIED:20190208T072053Z
UID:7386-1550275200-1550534399@koostookogu.ee
SUMMARY:Stockholmi käsitöömessi külastus
DESCRIPTION:KAVA
URL:https://koostookogu.ee/sundmus/stockholmi-kasitoomessi-kulastus/
END:VEVENT
BEGIN:VEVENT
DTSTART;TZID=Europe/Tallinn:20190220T150000
DTEND;TZID=Europe/Tallinn:20190220T170000
DTSTAMP:20260420T233455
CREATED:20190208T072304Z
LAST-MODIFIED:20190219T123720Z
UID:7426-1550674800-1550682000@koostookogu.ee
SUMMARY:LJKK Üldkoosolek
DESCRIPTION:Päevakava
URL:https://koostookogu.ee/sundmus/ljkk-uldkoosolek-3/
LOCATION:Taikse seltsimaja\, Taikse küla\, Türi vald
END:VEVENT
END:VCALENDAR