BEGIN:VCALENDAR
VERSION:2.0
PRODID:-//Koost&ouml;&ouml;kogu - ECPv6.15.20//NONSGML v1.0//EN
CALSCALE:GREGORIAN
METHOD:PUBLISH
X-ORIGINAL-URL:https://koostookogu.ee
X-WR-CALDESC:Events for Koost&ouml;&ouml;kogu
REFRESH-INTERVAL;VALUE=DURATION:PT1H
X-Robots-Tag:noindex
X-PUBLISHED-TTL:PT1H
BEGIN:VTIMEZONE
TZID:Europe/Tallinn
BEGIN:DAYLIGHT
TZOFFSETFROM:+0200
TZOFFSETTO:+0300
TZNAME:EEST
DTSTART:20170326T010000
END:DAYLIGHT
BEGIN:STANDARD
TZOFFSETFROM:+0300
TZOFFSETTO:+0200
TZNAME:EET
DTSTART:20171029T010000
END:STANDARD
BEGIN:DAYLIGHT
TZOFFSETFROM:+0200
TZOFFSETTO:+0300
TZNAME:EEST
DTSTART:20180325T010000
END:DAYLIGHT
BEGIN:STANDARD
TZOFFSETFROM:+0300
TZOFFSETTO:+0200
TZNAME:EET
DTSTART:20181028T010000
END:STANDARD
BEGIN:DAYLIGHT
TZOFFSETFROM:+0200
TZOFFSETTO:+0300
TZNAME:EEST
DTSTART:20190331T010000
END:DAYLIGHT
BEGIN:STANDARD
TZOFFSETFROM:+0300
TZOFFSETTO:+0200
TZNAME:EET
DTSTART:20191027T010000
END:STANDARD
END:VTIMEZONE
BEGIN:VEVENT
DTSTART;TZID=Europe/Tallinn:20180301T150000
DTEND;TZID=Europe/Tallinn:20180301T170000
DTSTAMP:20260423T030621
CREATED:20180208T122055Z
LAST-MODIFIED:20180226T064513Z
UID:6455-1519916400-1519923600@koostookogu.ee
SUMMARY:Üldkoosolek
DESCRIPTION:https://koostookogu.ee/uldkoosolek-1-martsil-2018/
URL:https://koostookogu.ee/sundmus/uldkoosolek/
END:VEVENT
BEGIN:VEVENT
DTSTART;VALUE=DATE:20180306
DTEND;VALUE=DATE:20180314
DTSTAMP:20260423T030621
CREATED:20180226T064632Z
LAST-MODIFIED:20180323T091332Z
UID:6479-1520294400-1520985599@koostookogu.ee
SUMMARY:Õppereis Saksamaale
DESCRIPTION:https://koostookogu.ee/leader-oppereis-saksamaale/
URL:https://koostookogu.ee/sundmus/oppereis-saksamaale/
END:VEVENT
BEGIN:VEVENT
DTSTART;TZID=Europe/Tallinn:20180319T080000
DTEND;TZID=Europe/Tallinn:20180319T150000
DTSTAMP:20260423T030621
CREATED:20180226T065401Z
LAST-MODIFIED:20180320T082631Z
UID:6498-1521446400-1521471600@koostookogu.ee
SUMMARY:Projektitaotluste paikvaatlused
DESCRIPTION:https://koostookogu.ee/hindamiskomisjoni-ringsoit-paikvaatluste-teostamiseks/
URL:https://koostookogu.ee/sundmus/projektitaotluste-paikvaatlused/
END:VEVENT
BEGIN:VEVENT
DTSTART;TZID=Europe/Tallinn:20180321T150000
DTEND;TZID=Europe/Tallinn:20180321T170000
DTSTAMP:20260423T030621
CREATED:20180323T085508Z
LAST-MODIFIED:20180323T085508Z
UID:6596-1521644400-1521651600@koostookogu.ee
SUMMARY:Koostööseminar Tori mõisas
DESCRIPTION:https://koostookogu.ee/koostooseminar-tori-moisas/
URL:https://koostookogu.ee/sundmus/koostooseminar-tori-moisas/
LOCATION:Tori mõis\, Türi vald
END:VEVENT
BEGIN:VEVENT
DTSTART;TZID=Europe/Tallinn:20180322T090000
DTEND;TZID=Europe/Tallinn:20180322T120000
DTSTAMP:20260423T030621
CREATED:20180226T065509Z
LAST-MODIFIED:20180226T065509Z
UID:6500-1521709200-1521720000@koostookogu.ee
SUMMARY:Hindamiskomisjoni koosolek
DESCRIPTION:
URL:https://koostookogu.ee/sundmus/hindamiskomisjoni-koosolek-4/
END:VEVENT
BEGIN:VEVENT
DTSTART;TZID=Europe/Tallinn:20180327T120000
DTEND;TZID=Europe/Tallinn:20180327T133000
DTSTAMP:20260423T030621
CREATED:20180323T092019Z
LAST-MODIFIED:20180328T072852Z
UID:6609-1522152000-1522157400@koostookogu.ee
SUMMARY:Juhatuse koosolek hindamistulemuste kinnitamiseks
DESCRIPTION:https://koostookogu.ee/27-martsi-juhatuse-koosoleku-paevakava/
URL:https://koostookogu.ee/sundmus/juhatuse-koosolek-hindamistulemuste-kinnitamiseks/
LOCATION:Koostookogu kontor\, Kohtu 2 Türi
END:VEVENT
BEGIN:VEVENT
DTSTART;TZID=Europe/Tallinn:20180328T170000
DTEND;TZID=Europe/Tallinn:20180328T193000
DTSTAMP:20260423T030621
CREATED:20171117T075951Z
LAST-MODIFIED:20180321T173930Z
UID:6200-1522256400-1522265400@koostookogu.ee
SUMMARY:Vivacolori õpikoda - taaskasutusmööbli tuunimine
DESCRIPTION:https://koostookogu.ee/vintage-varvitehnikad-puidust-esemetele/
URL:https://koostookogu.ee/sundmus/vivacolori-opikoda-taaskasutusmoobli-tuunimine/
LOCATION:Türi Ühisgümnaasium
END:VEVENT
END:VCALENDAR