BEGIN:VCALENDAR
VERSION:2.0
PRODID:-//Koost&ouml;&ouml;kogu - ECPv6.15.20//NONSGML v1.0//EN
CALSCALE:GREGORIAN
METHOD:PUBLISH
X-WR-CALNAME:Koost&ouml;&ouml;kogu
X-ORIGINAL-URL:https://koostookogu.ee
X-WR-CALDESC:Events for Koost&ouml;&ouml;kogu
REFRESH-INTERVAL;VALUE=DURATION:PT1H
X-Robots-Tag:noindex
X-PUBLISHED-TTL:PT1H
BEGIN:VTIMEZONE
TZID:Europe/Tallinn
BEGIN:DAYLIGHT
TZOFFSETFROM:+0200
TZOFFSETTO:+0300
TZNAME:EEST
DTSTART:20160327T010000
END:DAYLIGHT
BEGIN:STANDARD
TZOFFSETFROM:+0300
TZOFFSETTO:+0200
TZNAME:EET
DTSTART:20161030T010000
END:STANDARD
BEGIN:DAYLIGHT
TZOFFSETFROM:+0200
TZOFFSETTO:+0300
TZNAME:EEST
DTSTART:20170326T010000
END:DAYLIGHT
BEGIN:STANDARD
TZOFFSETFROM:+0300
TZOFFSETTO:+0200
TZNAME:EET
DTSTART:20171029T010000
END:STANDARD
BEGIN:DAYLIGHT
TZOFFSETFROM:+0200
TZOFFSETTO:+0300
TZNAME:EEST
DTSTART:20180325T010000
END:DAYLIGHT
BEGIN:STANDARD
TZOFFSETFROM:+0300
TZOFFSETTO:+0200
TZNAME:EET
DTSTART:20181028T010000
END:STANDARD
END:VTIMEZONE
BEGIN:VEVENT
DTSTART;TZID=Europe/Tallinn:20171202T100000
DTEND;TZID=Europe/Tallinn:20171202T160000
DTSTAMP:20260422T223405
CREATED:20171127T062705Z
LAST-MODIFIED:20171127T063611Z
UID:6217-1512208800-1512230400@koostookogu.ee
SUMMARY:Õppepäev vana maja hooldamisest – savi- ja lubikrohvi viimistlemine
DESCRIPTION:https://koostookogu.ee/savi-ja-lubikrohvi-viimistlemine/
URL:https://koostookogu.ee/sundmus/oppepaev-vana-maja-hooldamisest-savi-ja-lubikrohvi-viimistlemine/
LOCATION:Türi Kogukonnaseltsi maja\, Viljandi 60\, Türi
END:VEVENT
BEGIN:VEVENT
DTSTART;TZID=Europe/Tallinn:20171218T140000
DTEND;TZID=Europe/Tallinn:20171218T160000
DTSTAMP:20260422T223405
CREATED:20171120T093318Z
LAST-MODIFIED:20171213T110320Z
UID:6206-1513605600-1513612800@koostookogu.ee
SUMMARY:Juhatuse koosolek
DESCRIPTION:https://koostookogu.ee/juhatuse-aastalopu-koosolek/
URL:https://koostookogu.ee/sundmus/juhatuse-koosolek-10/
LOCATION:Hindreku Turismitalu\, Valgma küla\, Paide vald
END:VEVENT
END:VCALENDAR