BEGIN:VCALENDAR
VERSION:2.0
PRODID:-//Koost&ouml;&ouml;kogu - ECPv6.15.20//NONSGML v1.0//EN
CALSCALE:GREGORIAN
METHOD:PUBLISH
X-WR-CALNAME:Koost&ouml;&ouml;kogu
X-ORIGINAL-URL:https://koostookogu.ee
X-WR-CALDESC:Events for Koost&ouml;&ouml;kogu
REFRESH-INTERVAL;VALUE=DURATION:PT1H
X-Robots-Tag:noindex
X-PUBLISHED-TTL:PT1H
BEGIN:VTIMEZONE
TZID:Europe/Tallinn
BEGIN:DAYLIGHT
TZOFFSETFROM:+0200
TZOFFSETTO:+0300
TZNAME:EEST
DTSTART:20250330T010000
END:DAYLIGHT
BEGIN:STANDARD
TZOFFSETFROM:+0300
TZOFFSETTO:+0200
TZNAME:EET
DTSTART:20251026T010000
END:STANDARD
BEGIN:DAYLIGHT
TZOFFSETFROM:+0200
TZOFFSETTO:+0300
TZNAME:EEST
DTSTART:20260329T010000
END:DAYLIGHT
BEGIN:STANDARD
TZOFFSETFROM:+0300
TZOFFSETTO:+0200
TZNAME:EET
DTSTART:20261025T010000
END:STANDARD
BEGIN:DAYLIGHT
TZOFFSETFROM:+0200
TZOFFSETTO:+0300
TZNAME:EEST
DTSTART:20270328T010000
END:DAYLIGHT
BEGIN:STANDARD
TZOFFSETFROM:+0300
TZOFFSETTO:+0200
TZNAME:EET
DTSTART:20271031T010000
END:STANDARD
END:VTIMEZONE
BEGIN:VEVENT
DTSTART;VALUE=DATE:20260423
DTEND;VALUE=DATE:20260424
DTSTAMP:20260423T014021
CREATED:20260401T173918Z
LAST-MODIFIED:20260401T173918Z
UID:13201-1776902400-1776988799@koostookogu.ee
SUMMARY:MTÜ KuldneSügis "Väärikate ülikooli külastus" (ESF+)
DESCRIPTION:KAVA
URL:https://koostookogu.ee/sundmus/mtu-kuldnesugis-vaarikate-ulikooli-kulastus-esf/
LOCATION:Türi Kultuurikeskus\, seminarisuum
END:VEVENT
BEGIN:VEVENT
DTSTART;VALUE=DATE:20260423
DTEND;VALUE=DATE:20260424
DTSTAMP:20260423T014021
CREATED:20260414T110100Z
LAST-MODIFIED:20260414T110100Z
UID:13297-1776902400-1776988799@koostookogu.ee
SUMMARY:OKAS "Rabamatk Mukri rappa" (ESF+)
DESCRIPTION:KAVA
URL:https://koostookogu.ee/sundmus/okas-rabamatk-mukri-rappa-esf/
END:VEVENT
END:VCALENDAR