BEGIN:VCALENDAR
VERSION:2.0
PRODID:-//Koost&ouml;&ouml;kogu - ECPv6.15.20//NONSGML v1.0//EN
CALSCALE:GREGORIAN
METHOD:PUBLISH
X-ORIGINAL-URL:https://koostookogu.ee
X-WR-CALDESC:Events for Koost&ouml;&ouml;kogu
REFRESH-INTERVAL;VALUE=DURATION:PT1H
X-Robots-Tag:noindex
X-PUBLISHED-TTL:PT1H
BEGIN:VTIMEZONE
TZID:Europe/Tallinn
BEGIN:DAYLIGHT
TZOFFSETFROM:+0200
TZOFFSETTO:+0300
TZNAME:EEST
DTSTART:20240331T010000
END:DAYLIGHT
BEGIN:STANDARD
TZOFFSETFROM:+0300
TZOFFSETTO:+0200
TZNAME:EET
DTSTART:20241027T010000
END:STANDARD
BEGIN:DAYLIGHT
TZOFFSETFROM:+0200
TZOFFSETTO:+0300
TZNAME:EEST
DTSTART:20250330T010000
END:DAYLIGHT
BEGIN:STANDARD
TZOFFSETFROM:+0300
TZOFFSETTO:+0200
TZNAME:EET
DTSTART:20251026T010000
END:STANDARD
BEGIN:DAYLIGHT
TZOFFSETFROM:+0200
TZOFFSETTO:+0300
TZNAME:EEST
DTSTART:20260329T010000
END:DAYLIGHT
BEGIN:STANDARD
TZOFFSETFROM:+0300
TZOFFSETTO:+0200
TZNAME:EET
DTSTART:20261025T010000
END:STANDARD
END:VTIMEZONE
BEGIN:VEVENT
DTSTART;VALUE=DATE:20250515
DTEND;VALUE=DATE:20250516
DTSTAMP:20260422T145804
CREATED:20250503T074356Z
LAST-MODIFIED:20250503T074356Z
UID:11661-1747267200-1747353599@koostookogu.ee
SUMMARY:"Härmalõnga" Arvo Pärdi keskuse külastus (ESF+)
DESCRIPTION:KAVA
URL:https://koostookogu.ee/sundmus/harmalonga-arvo-pardi-keskuse-kulastus-esf/
END:VEVENT
BEGIN:VEVENT
DTSTART;TZID=Europe/Tallinn:20250515T090000
DTEND;TZID=Europe/Tallinn:20250515T170000
DTSTAMP:20260422T145804
CREATED:20250507T114758Z
LAST-MODIFIED:20250507T114758Z
UID:11710-1747299600-1747328400@koostookogu.ee
SUMMARY:Hindamiskomisjoni ringsõit - ettevõtlusprojektide paikvaatlused
DESCRIPTION:
URL:https://koostookogu.ee/sundmus/hindamiskomisjoni-ringsoit-ettevotlusprojektide-paikvaatlused-4/
END:VEVENT
END:VCALENDAR