BEGIN:VCALENDAR
VERSION:2.0
PRODID:-//Koost&ouml;&ouml;kogu - ECPv6.15.20//NONSGML v1.0//EN
CALSCALE:GREGORIAN
METHOD:PUBLISH
X-ORIGINAL-URL:https://koostookogu.ee
X-WR-CALDESC:Events for Koost&ouml;&ouml;kogu
REFRESH-INTERVAL;VALUE=DURATION:PT1H
X-Robots-Tag:noindex
X-PUBLISHED-TTL:PT1H
BEGIN:VTIMEZONE
TZID:Europe/Tallinn
BEGIN:DAYLIGHT
TZOFFSETFROM:+0200
TZOFFSETTO:+0300
TZNAME:EEST
DTSTART:20180325T010000
END:DAYLIGHT
BEGIN:STANDARD
TZOFFSETFROM:+0300
TZOFFSETTO:+0200
TZNAME:EET
DTSTART:20181028T010000
END:STANDARD
BEGIN:DAYLIGHT
TZOFFSETFROM:+0200
TZOFFSETTO:+0300
TZNAME:EEST
DTSTART:20190331T010000
END:DAYLIGHT
BEGIN:STANDARD
TZOFFSETFROM:+0300
TZOFFSETTO:+0200
TZNAME:EET
DTSTART:20191027T010000
END:STANDARD
BEGIN:DAYLIGHT
TZOFFSETFROM:+0200
TZOFFSETTO:+0300
TZNAME:EEST
DTSTART:20200329T010000
END:DAYLIGHT
BEGIN:STANDARD
TZOFFSETFROM:+0300
TZOFFSETTO:+0200
TZNAME:EET
DTSTART:20201025T010000
END:STANDARD
END:VTIMEZONE
BEGIN:VEVENT
DTSTART;VALUE=DATE:20190418
DTEND;VALUE=DATE:20190427
DTSTAMP:20260420T215113
CREATED:20190201T080544Z
LAST-MODIFIED:20190201T080544Z
UID:7399-1555545600-1556323199@koostookogu.ee
SUMMARY:Ettevõtlusmeetmete 2.1 ja 2.2 taotlusvoor
DESCRIPTION:
URL:https://koostookogu.ee/sundmus/ettevotlusmeetmete-2-1-ja-2-2-taotlusvoor-9/
END:VEVENT
END:VCALENDAR