BEGIN:VCALENDAR
VERSION:2.0
PRODID:-//Koost&ouml;&ouml;kogu - ECPv6.15.20//NONSGML v1.0//EN
CALSCALE:GREGORIAN
METHOD:PUBLISH
X-ORIGINAL-URL:https://koostookogu.ee
X-WR-CALDESC:Events for Koost&ouml;&ouml;kogu
REFRESH-INTERVAL;VALUE=DURATION:PT1H
X-Robots-Tag:noindex
X-PUBLISHED-TTL:PT1H
BEGIN:VTIMEZONE
TZID:Europe/Tallinn
BEGIN:DAYLIGHT
TZOFFSETFROM:+0200
TZOFFSETTO:+0300
TZNAME:EEST
DTSTART:20170326T010000
END:DAYLIGHT
BEGIN:STANDARD
TZOFFSETFROM:+0300
TZOFFSETTO:+0200
TZNAME:EET
DTSTART:20171029T010000
END:STANDARD
BEGIN:DAYLIGHT
TZOFFSETFROM:+0200
TZOFFSETTO:+0300
TZNAME:EEST
DTSTART:20180325T010000
END:DAYLIGHT
BEGIN:STANDARD
TZOFFSETFROM:+0300
TZOFFSETTO:+0200
TZNAME:EET
DTSTART:20181028T010000
END:STANDARD
BEGIN:DAYLIGHT
TZOFFSETFROM:+0200
TZOFFSETTO:+0300
TZNAME:EEST
DTSTART:20190331T010000
END:DAYLIGHT
BEGIN:STANDARD
TZOFFSETFROM:+0300
TZOFFSETTO:+0200
TZNAME:EET
DTSTART:20191027T010000
END:STANDARD
END:VTIMEZONE
BEGIN:VEVENT
DTSTART;TZID=Europe/Tallinn:20180920T160000
DTEND;TZID=Europe/Tallinn:20180920T183000
DTSTAMP:20260421T105819
CREATED:20180918T053158Z
LAST-MODIFIED:20180921T053338Z
UID:7073-1537459200-1537468200@koostookogu.ee
SUMMARY:Kestliku arengu mõttetalgud
DESCRIPTION:
URL:https://koostookogu.ee/sundmus/kestliku-arengu-mottetalgud/
LOCATION:Viljandi 60\, Türi
END:VEVENT
END:VCALENDAR