BEGIN:VCALENDAR
VERSION:2.0
PRODID:-//Koost&ouml;&ouml;kogu - ECPv6.15.20//NONSGML v1.0//EN
CALSCALE:GREGORIAN
METHOD:PUBLISH
X-ORIGINAL-URL:https://koostookogu.ee
X-WR-CALDESC:Events for Koost&ouml;&ouml;kogu
REFRESH-INTERVAL;VALUE=DURATION:PT1H
X-Robots-Tag:noindex
X-PUBLISHED-TTL:PT1H
BEGIN:VTIMEZONE
TZID:Europe/Tallinn
BEGIN:DAYLIGHT
TZOFFSETFROM:+0200
TZOFFSETTO:+0300
TZNAME:EEST
DTSTART:20170326T010000
END:DAYLIGHT
BEGIN:STANDARD
TZOFFSETFROM:+0300
TZOFFSETTO:+0200
TZNAME:EET
DTSTART:20171029T010000
END:STANDARD
BEGIN:DAYLIGHT
TZOFFSETFROM:+0200
TZOFFSETTO:+0300
TZNAME:EEST
DTSTART:20180325T010000
END:DAYLIGHT
BEGIN:STANDARD
TZOFFSETFROM:+0300
TZOFFSETTO:+0200
TZNAME:EET
DTSTART:20181028T010000
END:STANDARD
BEGIN:DAYLIGHT
TZOFFSETFROM:+0200
TZOFFSETTO:+0300
TZNAME:EEST
DTSTART:20190331T010000
END:DAYLIGHT
BEGIN:STANDARD
TZOFFSETFROM:+0300
TZOFFSETTO:+0200
TZNAME:EET
DTSTART:20191027T010000
END:STANDARD
END:VTIMEZONE
BEGIN:VEVENT
DTSTART;TZID=Europe/Tallinn:20180606T090000
DTEND;TZID=Europe/Tallinn:20180606T120000
DTSTAMP:20260425T131822
CREATED:20180423T121601Z
LAST-MODIFIED:20180605T105622Z
UID:6666-1528275600-1528286400@koostookogu.ee
SUMMARY:Hindamiskomisjoni koosolek
DESCRIPTION:
URL:https://koostookogu.ee/sundmus/hindamiskomisjoni-koosolek-5/
END:VEVENT
BEGIN:VEVENT
DTSTART;TZID=Europe/Tallinn:20180606T140000
DTEND;TZID=Europe/Tallinn:20180606T180000
DTSTAMP:20260425T131822
CREATED:20180605T105346Z
LAST-MODIFIED:20180605T105346Z
UID:6710-1528293600-1528308000@koostookogu.ee
SUMMARY:Ökoehituse töötuba Murumoori Mängupargis
DESCRIPTION:
URL:https://koostookogu.ee/sundmus/okoehituse-tootuba-murumoori-mangupargis/
END:VEVENT
BEGIN:VEVENT
DTSTART;TZID=Europe/Tallinn:20180606T153000
DTEND;TZID=Europe/Tallinn:20180606T170000
DTSTAMP:20260425T131822
CREATED:20180608T072205Z
LAST-MODIFIED:20180608T072205Z
UID:6768-1528299000-1528304400@koostookogu.ee
SUMMARY:Järvamaa Avatud talude kokkusaamine
DESCRIPTION:
URL:https://koostookogu.ee/sundmus/jarvamaa-avatud-talude-kokkusaamine/
LOCATION:OÜ Elise Aed\, Retla küla\, Türi vald
END:VEVENT
END:VCALENDAR